BEGIN:VCALENDAR
VERSION:2.0
BEGIN:VEVENT
URL:https://www.dailyinfo.co.uk/events/293042/flofest-2026
DTSTART;VALUE=DATE:20260620
DESCRIPTION:FloFest 2026\n\n\nLive music, food, bar, free activities, community groups, reggae area, variety tent, dog show, much much more 11.00am-4.30pm Free
SUMMARY;LANGUAGE=en-gb:FloFest 2026
LOCATION:Florence Park, Cowley, Oxford OX4 3PW
END:VEVENT
END:VCALENDAR
