BEGIN:VCALENDAR
VERSION:2.0
BEGIN:VEVENT
URL:https://www.dailyinfo.co.uk/events/293043/the-shotovers-hormones-marys-garden-mount-st-helen-dj-kwassa-kwassa-dj-badger
DTSTART;VALUE=DATE:20260620
DESCRIPTION:The Shotovers, Hormones, Marys Garden, Mount St. Helen, DJ Kwassa Kwassa, DJ Badger\n\n\nFlorence Park's night time music festival with epic laser finale by DJ James Ussher. 6.00-11.30pm From £12
SUMMARY;LANGUAGE=en-gb:The Shotovers, Hormones, Marys Garden, Mount St. Helen, DJ Kwassa Kwassa, DJ Badger
LOCATION:Florence Park, Cowley, Oxford OX4 3PW
END:VEVENT
END:VCALENDAR
