BEGIN:VCALENDAR
VERSION:2.0
BEGIN:VEVENT
URL:https://www.dailyinfo.co.uk/events/293580/brahms-ein-deutsches-requiem-schumanns-violin-concerto
DTSTART;VALUE=DATE:20260620
DESCRIPTION:Brahms' Ein Deutsches Requiem, Schumann's Violin Concerto\n\n\n7.30pm £20-£25, under 18s/students £12.50
SUMMARY;LANGUAGE=en-gb:Brahms' Ein Deutsches Requiem, Schumann's Violin Concerto
LOCATION:Oxford Town Hall, St Aldate's, Oxford OX1 1DP
END:VEVENT
END:VCALENDAR
