BEGIN:VCALENDAR
VERSION:2.0
BEGIN:VEVENT
URL:https://www.dailyinfo.co.uk/events/293695/britten-bridge-and-elgar
DTSTART;VALUE=DATE:20260620
DESCRIPTION:Britten, Bridge and Elgar\n\n\nBritten: Four Sea Interludes, Bridge: Oration, Elgar: Falstaff. Tim Posner - cello, Robert Max - conductor 7.30pm £18, £10 (students/benefits), £0 (acc. under 16s)
SUMMARY;LANGUAGE=en-gb:Britten, Bridge and Elgar
LOCATION:Sheldonian Theatre, Broad Street, Oxford OX1 3AZ
END:VEVENT
END:VCALENDAR
