BEGIN:VCALENDAR
VERSION:2.0
BEGIN:VEVENT
URL:https://www.dailyinfo.co.uk/events/293364/bike-oxford
DTSTART;VALUE=DATE:20260621
DESCRIPTION:Bike Oxford\n\n\nBike Oxford is back, and we're headed into the beautiful Cotswolds. Don't miss out: register now! All day £35 - £45
SUMMARY;LANGUAGE=en-gb:Bike Oxford
LOCATION:Oxford University Rugby Football Club, Jackdaw Lane, Iffley Rd, Oxford OX4 1SR
END:VEVENT
END:VCALENDAR
