BEGIN:VCALENDAR
VERSION:2.0
BEGIN:VEVENT
URL:https://www.dailyinfo.co.uk/events/293418/england-vs-ghana
DTSTART;VALUE=DATE:20260623
DESCRIPTION:England vs Ghana\n\n\nLive from Foxborough, Boston 9.00pm Free
SUMMARY;LANGUAGE=en-gb:England vs Ghana
LOCATION:The Cape of Good Hope, 1 Iffley Road, Oxford OX4 1EA
END:VEVENT
END:VCALENDAR
