BEGIN:VCALENDAR
VERSION:2.0
BEGIN:VEVENT
URL:https://www.dailyinfo.co.uk/events/293638/free-piano-recital-salome-jordania
DTSTART;VALUE=DATE:20260623
DESCRIPTION:Free Piano Recital: Salome Jordania\n\n\nMulti-award-winning pianist Salome Jordania performs Mussorgski's Pictures at an Exhibition. 1.10-2.00pm Free
SUMMARY;LANGUAGE=en-gb:Free Piano Recital: Salome Jordania
LOCATION:Wesley Memorial Church, New Inn Hall Street, Oxford OX1 2DH
END:VEVENT
END:VCALENDAR
