BEGIN:VCALENDAR
VERSION:2.0
BEGIN:VEVENT
URL:https://www.dailyinfo.co.uk/events/293421/scotland-vs-brazil
DTSTART;VALUE=DATE:20260624
DESCRIPTION:Scotland vs Brazil\n\n\nLive from Hard Rock Stadium, Miami 11.00pm Free
SUMMARY;LANGUAGE=en-gb:Scotland vs Brazil
LOCATION:The Cape of Good Hope, 1 Iffley Road, Oxford OX4 1EA
END:VEVENT
END:VCALENDAR
