BEGIN:VCALENDAR
VERSION:2.0
BEGIN:VEVENT
URL:https://www.dailyinfo.co.uk/events/293159/choral-evensong
DTSTART;VALUE=DATE:20260627
DESCRIPTION:Choral Evensong\n\n\nA service of Choral Evensong held in the beautiful chapel of Merton College. All welcome! 6.00pm Free
SUMMARY;LANGUAGE=en-gb:Choral Evensong
LOCATION:Merton College Chapel, Merton Street, Oxford OX1 4JD
END:VEVENT
END:VCALENDAR
