BEGIN:VCALENDAR
VERSION:2.0
BEGIN:VEVENT
URL:https://www.dailyinfo.co.uk/events/293419/england-vs-panama
DTSTART;VALUE=DATE:20260627
DESCRIPTION:England vs Panama\n\n\nLive from New York / New Jersey Stadium 10.00pm Free
SUMMARY;LANGUAGE=en-gb:England vs Panama
LOCATION:The Cape of Good Hope, 1 Iffley Road, Oxford OX4 1EA
END:VEVENT
END:VCALENDAR
