BEGIN:VCALENDAR
VERSION:2.0
BEGIN:VEVENT
URL:https://www.dailyinfo.co.uk/events/293472/world-cup-2026-england-vs-panama
DTSTART;VALUE=DATE:20260627
DESCRIPTION:World Cup 2026: England vs. Panama\n\n\nWatch England decimate Panama (right?) on the big screen at Tap Social's Botley taproom! 10.00pm Free
SUMMARY;LANGUAGE=en-gb:World Cup 2026: England vs. Panama
LOCATION:Tap Social Movement, 27 Curtis Industrial Estate, North Hinksey Lane OX2 0LX
END:VEVENT
END:VCALENDAR
