BEGIN:VCALENDAR
VERSION:2.0
BEGIN:VEVENT
URL:https://www.dailyinfo.co.uk/events/293473/exploring-strengths-in-autism-a-zine-making-workshop-study
DTSTART;VALUE=DATE:20260628
DESCRIPTION:Exploring Strengths in Autism A Zine Making Workshop Study\n\n\nThis exhibition features a collection of Zines created by 18 autistic young people 11.00am-4.00pm Free
SUMMARY;LANGUAGE=en-gb:Exploring Strengths in Autism A Zine Making Workshop Study
LOCATION:North Wall Arts Centre, South Parade, Oxford OX2 7NN
END:VEVENT
END:VCALENDAR
