BEGIN:VCALENDAR
VERSION:2.0
BEGIN:VEVENT
URL:https://www.dailyinfo.co.uk/events/290898/undergraduate-open-days
DTSTART;VALUE=DATE:20260701
DESCRIPTION:Undergraduate Open Days\n\n\nOur open days provide the perfect opportunity to chat to staff and students and find out first-hand what it's like to study here. 9am - 6pm free
SUMMARY;LANGUAGE=en-gb:Undergraduate Open Days
LOCATION:Oxford City Centre (various venues), Various venues around the City Centre - see individual events for details. OX1 1ET
END:VEVENT
END:VCALENDAR
