BEGIN:VCALENDAR
VERSION:2.0
BEGIN:VEVENT
URL:https://www.dailyinfo.co.uk/events/287844/robota
DTSTART;VALUE=DATE:20260703
DESCRIPTION:ROBOTA\n\n\nBlending origin story with sci-fi, myth with machine, this is a bold, unsettling look at what it means to create life – and what happens when it turns on its maker. 7pm Ticket prices vary, from £16.50
SUMMARY;LANGUAGE=en-gb:ROBOTA
LOCATION:Schwarzman Centre for the Humanities, Radcliffe Observatory Quarter, Woodstock Road, Oxford OX2 6GG
END:VEVENT
END:VCALENDAR
