BEGIN:VCALENDAR
VERSION:2.0
BEGIN:VEVENT
URL:https://www.dailyinfo.co.uk/events/293514/the-rhythm-of-life
DTSTART;VALUE=DATE:20260703
DESCRIPTION:The Rhythm of Life\n\n\nA celebration of musical theatre with OXOPS 7.30pm Tickets £19.50 (£2.75 fee may apply)
SUMMARY;LANGUAGE=en-gb:The Rhythm of Life
LOCATION:Oxford Playhouse, 11-12 Beaumont Street, Oxford OX1 2LW
END:VEVENT
END:VCALENDAR
