BEGIN:VCALENDAR
VERSION:2.0
BEGIN:VEVENT
URL:https://www.dailyinfo.co.uk/events/293639/say-aphasia-group-meeting
DTSTART;VALUE=DATE:20260703
DESCRIPTION:Say Aphasia Group Meeting\n\n\nA relaxed, pressure-free social group for people living with aphasia. We meet in the Norman Brown 1 Room, 1st and 3rd Friday of every month. No doctor's referral needed. Don't face this isolating condition alone - come and join us. 10am – 12 noon Free
SUMMARY;LANGUAGE=en-gb:Say Aphasia Group Meeting
LOCATION:Rose Hill Community Centre, Carole’s Way, Rose Hill, Oxford OX4 4HF
END:VEVENT
END:VCALENDAR
