BEGIN:VCALENDAR
VERSION:2.0
BEGIN:VEVENT
URL:https://www.dailyinfo.co.uk/events/289129/sensory-friendly-family-day
DTSTART;VALUE=DATE:20260704
DESCRIPTION:Sensory-friendly Family Day\n\n\nLower capacity SEN families day at the Science Oxford Centre. Exploration Zone, Water Lab, woodland 10am, 12.30pm, 3pm (10am-5pm outdoor access) £8.50 per person (u3s free)
SUMMARY;LANGUAGE=en-gb:Sensory-friendly Family Day
LOCATION:Science Oxford Centre, Stansfeld Park, Quarry Road, Headington, Oxford OX3 8SB
END:VEVENT
END:VCALENDAR
