BEGIN:VCALENDAR
VERSION:2.0
BEGIN:VEVENT
URL:https://www.dailyinfo.co.uk/events/293502/northern-lights-music-of-scandinavia
DTSTART;VALUE=DATE:20260704
DESCRIPTION:Northern Lights - Music of Scandinavia\n\n\nJoin us to celebrate the choral music of Scandinavia. 7.30pm £18, £8 students / under 25
SUMMARY;LANGUAGE=en-gb:Northern Lights - Music of Scandinavia
LOCATION:Exeter College Chapel, Exeter College, Turl Street, Oxford OX1 3DP
END:VEVENT
END:VCALENDAR
