BEGIN:VCALENDAR
VERSION:2.0
BEGIN:VEVENT
URL:https://www.dailyinfo.co.uk/events/293476/peep-baby-and-toddler-groups-in-rosehill-the-leys-and-littlemore
DTSTART;VALUE=DATE:20260706
DESCRIPTION:Peep baby and toddler groups in Rosehill, The Leys and Littlemore\n\n\nFree fun groups for parents/carers with children from 0-5 years. Songs, stories, simple activities. 9.30-10.30am / 1.30-2.30pm Free
SUMMARY;LANGUAGE=en-gb:Peep baby and toddler groups in Rosehill, The Leys and Littlemore
LOCATION:Oxford City Centre (various venues), Various venues around the City Centre - see individual events for details. OX1 1ET
END:VEVENT
END:VCALENDAR
