BEGIN:VCALENDAR
VERSION:2.0
BEGIN:VEVENT
URL:https://www.dailyinfo.co.uk/events/293515/michelle-wolf-best-job-in-the-world
DTSTART;VALUE=DATE:20260706
DESCRIPTION:Michelle Wolf: Best Job In The World\n\n\nThe critically acclaimed comedian comes to Oxford 7.30pm Tickets £34 (£2.75 fee may apply)
SUMMARY;LANGUAGE=en-gb:Michelle Wolf: Best Job In The World
LOCATION:Oxford Playhouse, 11-12 Beaumont Street, Oxford OX1 2LW
END:VEVENT
END:VCALENDAR
