BEGIN:VCALENDAR
VERSION:2.0
BEGIN:VEVENT
URL:https://www.dailyinfo.co.uk/events/243775/bastard-english-folk-session
DTSTART;VALUE=DATE:20260710
DESCRIPTION:Bastard English Folk Session\n\n\nAll styles of music in a trad English folk style. 8.00pm-midnight Free
SUMMARY;LANGUAGE=en-gb:Bastard English Folk Session
LOCATION:The Isis Farmhouse, Haystacks Corner, The Towing Path, Iffley Lock, Oxford OX4 4EL
END:VEVENT
END:VCALENDAR
