BEGIN:VCALENDAR
VERSION:2.0
BEGIN:VEVENT
URL:https://www.dailyinfo.co.uk/events/292852/iyengar-yoga-in-central-north-oxford
DTSTART;VALUE=DATE:20260713
DESCRIPTION:Iyengar yoga in Central North Oxford\n\n\nGeneral level Iyengar yoga class, suitable for beginners. All equipment provided. Booking essential. 6-7.15pm £10 block/ £13 individual
SUMMARY;LANGUAGE=en-gb:Iyengar yoga in Central North Oxford
LOCATION:St Margaret's Institute, 30 Polstead Road, Oxford OX2 6TN
END:VEVENT
END:VCALENDAR
