BEGIN:VCALENDAR
VERSION:2.0
BEGIN:VEVENT
URL:https://www.dailyinfo.co.uk/events/293517/horrible-histories-3d-tudors-and-egyptians
DTSTART;VALUE=DATE:20260717
DESCRIPTION:Horrible Histories 3D: Tudors & Egyptians\n\n\nTerrible Tudors and Awful Egyptians live on stage! 6.30pm Tickets from £15 (£2.75 fee may apply)
SUMMARY;LANGUAGE=en-gb:Horrible Histories 3D: Tudors & Egyptians
LOCATION:Oxford Playhouse, 11-12 Beaumont Street, Oxford OX1 2LW
END:VEVENT
END:VCALENDAR
