BEGIN:VCALENDAR
VERSION:2.0
BEGIN:VEVENT
URL:https://www.dailyinfo.co.uk/events/291940/grow-your-own-wildflower-meadow
DTSTART;VALUE=DATE:20260722
DESCRIPTION:Grow your own wildflower meadow\n\n\nExplore the Arboretum collecting seeds from our wildflower meadow, before enjoying an interactive demonstration of the post-harvesting handling of different species 10.30am - 1pm £30
SUMMARY;LANGUAGE=en-gb:Grow your own wildflower meadow
LOCATION:Harcourt Arboretum, Nuneham Courtenay OX44 9PX
END:VEVENT
END:VCALENDAR
