BEGIN:VCALENDAR
VERSION:2.0
BEGIN:VEVENT
URL:https://www.dailyinfo.co.uk/events/293518/our-man-in-havana
DTSTART;VALUE=DATE:20260730
DESCRIPTION:Our Man in Havana\n\n\nGraham Greene's classic spy comedy 2.30, 7.30pm Tickets from £15 (£2.75 fee may apply)
SUMMARY;LANGUAGE=en-gb:Our Man in Havana
LOCATION:Oxford Playhouse, 11-12 Beaumont Street, Oxford OX1 2LW
END:VEVENT
END:VCALENDAR
