BEGIN:VCALENDAR
VERSION:2.0
BEGIN:VEVENT
URL:https://www.dailyinfo.co.uk/events/293474/cally-trench-and-tineke-bruijnzeels-day-after-day-after-day
DTSTART;VALUE=DATE:20260808
DESCRIPTION:Cally Trench and Tineke Bruijnzeels: Day after day after day\n\n\nDaily drawings by the two artists lie at the heart of this exhibition 10.00am-4.00pm Free
SUMMARY;LANGUAGE=en-gb:Cally Trench and Tineke Bruijnzeels: Day after day after day
LOCATION:North Wall Arts Centre, South Parade, Oxford OX2 7NN
END:VEVENT
END:VCALENDAR
