BEGIN:VCALENDAR
VERSION:2.0
BEGIN:VEVENT
URL:https://www.dailyinfo.co.uk/events/293519/nick-copes-family-show
DTSTART;VALUE=DATE:20260829
DESCRIPTION:Nick Cope's Family Show\n\n\nThe CBeebies star's brand new family concert 11.00am Tickets £21 (£2.75 fee may apply)
SUMMARY;LANGUAGE=en-gb:Nick Cope's Family Show
LOCATION:Oxford Playhouse, 11-12 Beaumont Street, Oxford OX1 2LW
END:VEVENT
END:VCALENDAR
