BEGIN:VCALENDAR
VERSION:2.0
BEGIN:VEVENT
URL:https://www.dailyinfo.co.uk/events/293647/michael-spicer-hope-alls-well
DTSTART;VALUE=DATE:20260905
DESCRIPTION:Michael Spicer - Hope All's Well\n\n\nThe online sensation Michael Spicer brings another hilarious satirical stage show 7.30pm Tickets from £26 (fees may apply)
SUMMARY;LANGUAGE=en-gb:Michael Spicer - Hope All's Well
LOCATION:Oxford Playhouse, 11-12 Beaumont Street, Oxford OX1 2LW
END:VEVENT
END:VCALENDAR
