BEGIN:VCALENDAR
VERSION:2.0
BEGIN:VEVENT
URL:https://www.dailyinfo.co.uk/events/293648/paul-merton-and-suki-websters-improv-show
DTSTART;VALUE=DATE:20260909
DESCRIPTION:Paul Merton and Suki Webster's Improv Show\n\n\nThe fast, fabulously funny show with two masters of improvisation 7.30pm Tickets £30 (fees may apply)
SUMMARY;LANGUAGE=en-gb:Paul Merton and Suki Webster's Improv Show
LOCATION:Oxford Playhouse, 11-12 Beaumont Street, Oxford OX1 2LW
END:VEVENT
END:VCALENDAR
