BEGIN:VCALENDAR
VERSION:2.0
BEGIN:VEVENT
URL:https://www.dailyinfo.co.uk/events/293650/the-glenn-miller-orchestra
DTSTART;VALUE=DATE:20260912
DESCRIPTION:The Glenn Miller Orchestra\n\n\nTake a step back into the 1940s with the unforgettable sound of Glenn Miller 5.00pm Tickets £32 (fees may apply)
SUMMARY;LANGUAGE=en-gb:The Glenn Miller Orchestra
LOCATION:Oxford Playhouse, 11-12 Beaumont Street, Oxford OX1 2LW
END:VEVENT
END:VCALENDAR
