BEGIN:VCALENDAR
VERSION:2.0
BEGIN:VEVENT
URL:https://www.dailyinfo.co.uk/events/290071/visible-mending-workshop
DTSTART;VALUE=DATE:20260920
DESCRIPTION:Visible Mending Workshop\n\n\nLearn the art of visible mending with Rosie Leech and repair your own jumper with wool in a contrasting colour 11am - 1pm £40 (Members £32)
SUMMARY;LANGUAGE=en-gb:Visible Mending Workshop
LOCATION:Pitt Rivers Museum, South Parks Road, Oxford OX1 3PP
END:VEVENT
END:VCALENDAR
