BEGIN:VCALENDAR
VERSION:2.0
BEGIN:VEVENT
URL:https://www.dailyinfo.co.uk/events/293651/blood-brothers
DTSTART;VALUE=DATE:20260924
DESCRIPTION:Blood Brothers\n\n\nThe legendary multi-award winning musical by Willy Russell 2.30, 7.30pm Tickets from £15 (fees may apply)
SUMMARY;LANGUAGE=en-gb:Blood Brothers
LOCATION:Oxford Playhouse, 11-12 Beaumont Street, Oxford OX1 2LW
END:VEVENT
END:VCALENDAR
