BEGIN:VCALENDAR
VERSION:2.0
BEGIN:VEVENT
URL:https://www.dailyinfo.co.uk/events/289745/choral-evensong-and-soup-supper
DTSTART;VALUE=DATE:20260927
DESCRIPTION:Choral Evensong & Soup Supper\n\n\nFamily friendly service in a beautiful Edwardian church. Baby change & accessible facilities. 5:30 - 6:30pm Free
SUMMARY;LANGUAGE=en-gb:Choral Evensong & Soup Supper
LOCATION:All Saints' Church (Headington), Lime Walk, Headington, Oxford OX3 7AL
END:VEVENT
END:VCALENDAR
