BEGIN:VCALENDAR
VERSION:2.0
BEGIN:VEVENT
URL:https://www.dailyinfo.co.uk/events/289916/open-mic-night
DTSTART;VALUE=DATE:20260930
DESCRIPTION:Open Mic Night\n\n\nFortnightly open mic hosted by Lee Bo. Top PA, house guitar and keyboard available. 7.30pm Free
SUMMARY;LANGUAGE=en-gb:Open Mic Night
LOCATION:The Old Bookbinders, 17-18 Victor Street, Oxford OX2 6BT
END:VEVENT
END:VCALENDAR
