BEGIN:VCALENDAR
VERSION:2.0
BEGIN:VEVENT
URL:https://www.dailyinfo.co.uk/events/291941/native-hedgerow-seed-collection-workshop
DTSTART;VALUE=DATE:20260930
DESCRIPTION:Native Hedgerow Seed Collection Workshop\n\n\nLearn how to collect, process and germinate seeds of some of our native hedgerow species with our Senior Propagator, Lewis Barrett 10.30am - 1pm £30
SUMMARY;LANGUAGE=en-gb:Native Hedgerow Seed Collection Workshop
LOCATION:Harcourt Arboretum, Nuneham Courtenay OX44 9PX
END:VEVENT
END:VCALENDAR
