BEGIN:VCALENDAR
VERSION:2.0
BEGIN:VEVENT
URL:https://www.dailyinfo.co.uk/events/293652/august-wilsons-fences
DTSTART;VALUE=DATE:20261003
DESCRIPTION:August Wilson's Fences\n\n\nSome people build fences to keep people out, and other people build fences to keep people in. 2.30, 7.30pm Tickets from £15 (fees may apply)
SUMMARY;LANGUAGE=en-gb:August Wilson's Fences
LOCATION:Oxford Playhouse, 11-12 Beaumont Street, Oxford OX1 2LW
END:VEVENT
END:VCALENDAR
