BEGIN:VCALENDAR
VERSION:2.0
BEGIN:VEVENT
URL:https://www.dailyinfo.co.uk/events/291201/the-alonetimes
DTSTART;VALUE=DATE:20261019
DESCRIPTION:The Alonetimes\n\n\nA bold new music-theatre work about memory, loneliness, and belonging by composers Jennifer Walshe and Philip Venables 7pm Ticket prices vary
SUMMARY;LANGUAGE=en-gb:The Alonetimes
LOCATION:Schwarzman Centre for the Humanities, Radcliffe Observatory Quarter, Woodstock Road, Oxford OX2 6GG
END:VEVENT
END:VCALENDAR
