BEGIN:VCALENDAR
VERSION:2.0
BEGIN:VEVENT
URL:https://www.dailyinfo.co.uk/events/293673/heavy-pop-adult-dvd
DTSTART;VALUE=DATE:20261019
DESCRIPTION:Heavy Pop: Adult DVD\n\n\nDance-rock Adult DVD 
"Adult DVD bring the party vibes, it's an utter joy" - Clash magazine 7.30pm £15 adv
SUMMARY;LANGUAGE=en-gb:Heavy Pop: Adult DVD
LOCATION:The Bullingdon, 162 Cowley Road, Oxford OX4 1UE
END:VEVENT
END:VCALENDAR
