BEGIN:VCALENDAR
VERSION:2.0
BEGIN:VEVENT
URL:https://www.dailyinfo.co.uk/film/22362/rose-of-nevada?event=293589
DTSTART;VALUE=DATE:19700101
DESCRIPTION:Rose of Nevada [15]\n\n\nA mysterious boat returns to a village 30 years after vanishing.
SUMMARY;LANGUAGE=en-gb:Rose of Nevada [15]
LOCATION:Phoenix Picturehouse, 57 Walton Street, Oxford OX2 6AE
END:VEVENT
END:VCALENDAR
