BEGIN:VCALENDAR
VERSION:2.0
BEGIN:VEVENT
URL:https://www.dailyinfo.co.uk/film/22386/primavera?event=293597
DTSTART;VALUE=DATE:19700101
DESCRIPTION:Primavera [15]\n\n\nA talented violinist, Cecilia, confined in an orphanage, meets Vivaldi who becomes her teacher.
SUMMARY;LANGUAGE=en-gb:Primavera [15]
LOCATION:Phoenix Picturehouse, 57 Walton Street, Oxford OX2 6AE
END:VEVENT
END:VCALENDAR
