BEGIN:VCALENDAR
VERSION:2.0
BEGIN:VEVENT
URL:https://www.dailyinfo.co.uk/film/22395/hitpig?event=293661
DTSTART;VALUE=DATE:19700101
DESCRIPTION:Hitpig! [PG]\n\n\nA clever bounty-hunting pig must return a dancing elephant to a Las Vegas circus to collect $1 million
SUMMARY;LANGUAGE=en-gb:Hitpig! [PG]
LOCATION:Vue Cinema, Grenoble Road (nr Kassam Stadium), Oxford OX4 4XP
END:VEVENT
END:VCALENDAR
